BEGIN:VCALENDAR
PRODID:-//Flo Inc.//FloSoft//EN
BEGIN:VEVENT
DTSTART:20180503T070000Z
DTEND:20180503T070000Z
LOCATION:
DESCRIPTION:Nabava radova - Izgradnja Poslovno - tehnološkog inkubatora Krapinsko-zagorske županije za projekt sufinanciran od EU Poslovno-tehnološki inkubator Krapinsko-zagorske županije KK.03.1.2.01.0001.\n\nOpširnije na http://www.kzz.hr/jn-izgradnja-poslovno-tehnoloskog-inkubatora-kzz
SUMMARY:Nabava radova - Izgradnja Poslovno - tehnološkog inkubatora - rok za prijavu
PRIORITY:3
END:VEVENT
END:VCALENDAR