BEGIN:VCALENDAR
PRODID:-//Flo Inc.//FloSoft//EN
BEGIN:VEVENT
DTSTART:20161220T140000Z
DTEND:20161220T140000Z
LOCATION:
DESCRIPTION:Javni poziv na uvid u spis predmeta u postupku izdavanja građevinske dozvole za građenje građevine gospodarske namjene - spremište poljoprivrednih strojeva, kukuružnjak i kokošinjac.\n\nOpširnije na http://www.kzz.hr/javni-poziv-gradjevinska-dozvola-boris-slogar
SUMMARY:Javni poziv - izdavanje građevinske dozvole - Boris Šlogar - rok za prijavu
PRIORITY:3
END:VEVENT
END:VCALENDAR