BEGIN:VCALENDAR
PRODID:-//Flo Inc.//FloSoft//EN
BEGIN:VEVENT
DTSTART:20151202T140000Z
DTEND:20151202T140000Z
LOCATION:
DESCRIPTION:Krapinsko-zagorska županija, Upravni odjel za prostorno uređenje, gradnju i zaštitu okoliša Pregrada poziva na uvid u spis predmeta u postupku izdavanja izmjena i dopuna lokacijske dozvole - rekonstrukcija državne ceste D206 Hum na Sutli - Pregrada, dionica 001 za rekonstrukciju građevine 3 skupine.\n\nOpširnije na http://www.kzz.hr/javni-poziv-hrvatske-ceste
SUMMARY:Javni poziv za uvid u spis predmeta (Hrvatske ceste) - rok za prijavu
PRIORITY:3
END:VEVENT
END:VCALENDAR