BEGIN:VCALENDAR
PRODID:-//Flo Inc.//FloSoft//EN
BEGIN:VEVENT
DTSTART:20220226T225959Z
DTEND:20220226T225959Z
LOCATION:
DESCRIPTION:<ul><li>Odluku o projektima odabranim za financiranje možete preuzeti ispod teksta u prilozima.</li></ul>\n\nOpširnije na https://www.kzz.hr/poziv-kultura-2022
SUMMARY:Poziv za predlaganje programa i projekata za Program javnih potreba u kulturi 2022. - rok za prijavu
PRIORITY:3
END:VEVENT
END:VCALENDAR