BEGIN:VCALENDAR
PRODID:-//Flo Inc.//FloSoft//EN
BEGIN:VEVENT
DTSTART:20210505T130000Z
DTEND:20210505T130000Z
LOCATION:
DESCRIPTION:Uvid u spis predmeta može se izvršiti dana 05.05.2021. u 09:00 sati, na lokaciji – Upravni odjel za prostorno uređenje, gradnju i zaštitu okoliša Krapina, Magistratska 1.\n\nOpširnije na http://www.kzz.hr/poziv-uvid-u-spis-ivanka-martinic
SUMMARY:Javni poziv za uvid u spis predmeta (Ivanka Martinić) - rok za prijavu
PRIORITY:3
END:VEVENT
END:VCALENDAR