BEGIN:VCALENDAR
PRODID:-//Flo Inc.//FloSoft//EN
BEGIN:VEVENT
DTSTART:20200117T070000Z
DTEND:20200117T070000Z
LOCATION:
DESCRIPTION:Uvid u spis predmeta može se izvršiti dana 17.01.2020 u 08:00 sati, na lokaciji – Zabok, Kumrovečka 6, Upravni odjel za prostorno uređenje, gradnju i zaštitu okoliša, soba br.12.\n\nOpširnije na http://www.kzz.hr/poziv-uvid-u-spis-kreator
SUMMARY:Javni poziv za uvid u spis predmeta (Kreator) - rok za prijavu
PRIORITY:3
END:VEVENT
END:VCALENDAR