BEGIN:VCALENDAR
PRODID:-//Flo Inc.//FloSoft//EN
BEGIN:VEVENT
DTSTART:20211012T070000Z
DTEND:20211012T070000Z
LOCATION:
DESCRIPTION:Uvid u spis predmeta može se izvršiti dana 12.10.2021 u 09:00 sati, na lokaciji – Zlatar, Park hrvatske mladeži 2, drugi kat soba 62\n\nOpširnije na https://www.kzz.hr/poziv-uvid-u-spis-valerija-mikovic
SUMMARY:Javni poziv za uvid u spis predmeta (Valerija Miković) - rok za prijavu
PRIORITY:3
END:VEVENT
END:VCALENDAR