BEGIN:VCALENDAR
PRODID:-//Flo Inc.//FloSoft//EN
BEGIN:VEVENT
DTSTART:20160506T215959Z
DTEND:20160506T215959Z
LOCATION:
DESCRIPTION:Krapinsko-zagorska županija, Upravni odjel za obrazovanje, kulturu, šport i tehničku kulturu raspisuje javni natječaj za prijam u službu Višeg stručnog suradnika za obrazovanje, kulturu, sport i tehničku kulturu - 1 izvršitelj/izvršiteljica na neodređeno vrijeme, u Upravni odjel za obrazovanje, kulturu, sport i tehničku kulturu Krapinsko-zagorske županije, uz obvezan probni rad u trajanju od tri mjeseca.\n\nOpširnije na http://www.kzz.hr/prijam-u-sluzbu-uo-obrazovanj-sport-kulturu
SUMMARY:Prijam u službu u UO za obraz., sport i teh. kulturu - provjera znanja i sposobnosti - rok za prijavu
PRIORITY:3
END:VEVENT
END:VCALENDAR