BEGIN:VCALENDAR
PRODID:-//Flo Inc.//FloSoft//EN
BEGIN:VEVENT
DTSTART:20171019T073000Z
DTEND:20171019T073000Z
LOCATION:Dom Kulture Zlatar Bistrica (Zagorska 3)
DESCRIPTION:Panel diskusija: Kako razvijati malo i srednje poduzetništvo u Zlatar Bistrici\n\nOpširnije na http://www.kzz.hr/poslovni-uzlet-zlatar-bistrica-2017
SUMMARY:Najava: Poslovni uzlet Općine Zlatar Bistrice
PRIORITY:3
END:VEVENT
END:VCALENDAR