BEGIN:VCALENDAR
PRODID:-//Flo Inc.//FloSoft//EN
BEGIN:VEVENT
DTSTART:20160705T160000Z
DTEND:20160705T160000Z
LOCATION:Velika galerija Grada Zaboka, Zivtov trg 10
DESCRIPTION:U okviru savjetovanja sa zainteresiranom javnošću u postupku donošenja Strategije razvoja civilnog društva Krapinsko-zagorske županije, koje je u tijeku sve do 5. srpnja 2016. godine, a u cilju uključivanja što većeg broja građana, održat će se  informativna radionica sa zainteresiranom javnošću u Zaboku, 9. lipnja 2016. godine u Velikoj galeriji Grada Zaboka, Zivtov trg 10, s početkom u 18.00 sati.\n\nOpširnije na http://www.kzz.hr/strategija-razvoja-civilnog-drustva-radionica
SUMMARY:Najava: Strategija razvoja civilnog društva - informativna radionica
PRIORITY:3
END:VEVENT
END:VCALENDAR