BEGIN:VCALENDAR
PRODID:-//Flo Inc.//FloSoft//EN
BEGIN:VEVENT
DTSTART:20180301T160000Z
DTEND:20180301T160000Z
LOCATION:Zabok, Centar za mlade i nezavisnu kulturu (Zelena dvorana)
DESCRIPTION:Krapinsko-zagorska županija u suradnji sa Zavodom za javno zdravstvo KZŽ organizira stručni skup Krpelji kao prijenosnici zaraznih bolesti, koji će biti održan u četvrtak, 1. ožujka 2018. godine, u Centru za mlade i nezavisnu kulturu (Zelena dvorana) u Zaboku s početkom u 17:00 sati. \n\nOpširnije na http://www.kzz.hr/strucni-skup-krpelji-prijenosnici-zaraznih-bolesti
SUMMARY:Najava: Stručni skup – krpelji kao prijenosnici zaraznih bolesti
PRIORITY:3
END:VEVENT
END:VCALENDAR